BEGIN:VCALENDAR
VERSION:2.0
PRODID:-//Munich MTB Kids Cup - ECPv5.14.0.4//NONSGML v1.0//EN
CALSCALE:GREGORIAN
METHOD:PUBLISH
X-WR-CALNAME:Munich MTB Kids Cup
X-ORIGINAL-URL:https://munichmtbcup.de
X-WR-CALDESC:Veranstaltungen für Munich MTB Kids Cup
BEGIN:VTIMEZONE
TZID:UTC
BEGIN:STANDARD
TZOFFSETFROM:+0000
TZOFFSETTO:+0000
TZNAME:UTC
DTSTART:20180101T000000
END:STANDARD
END:VTIMEZONE
BEGIN:VEVENT
DTSTART;TZID=UTC:20180909T100000
DTEND;TZID=UTC:20180909T170000
DTSTAMP:20260424T142831
CREATED:20180227T203619Z
LAST-MODIFIED:20180905T204304Z
UID:190-1536487200-1536512400@munichmtbcup.de
SUMMARY:Kids Cup MTB-Club München 09.09.18 mit Jedermann-Rennen
DESCRIPTION:Der MTB-Club München e.V. richtet im Rahmen der Rennserie Munich MTB Kids Cup ebenfalls ein eigenes Rennen aus. Die Vorbereitungen laufen schon auf Hochtouren. Der Termin steht mit dem 09. September 2018 fest\, und kann auch im Kalender rot markiert werden! \nAm Fröttmaninger Berg erwartet die Teilnehmer eine abwechslungsreiche Rennstrecke\, angepasst und leistungsgerecht für die verschiedenen Altersklassen von U7 bis hin zur U19. Ab der U15 wird es zudem eine Bergwertung mit tollen Preisen geben! \nDas Team vom MTB-Club München freut sich über jeden einzelnen Teilnehmer. Wieder gilt\, jedes Kind und Jugendlicher kann teilnehmen\, es ist keine Lizenz oder Vereinsmitgliedschaft erforderlich. \nAuch für die Erwachsenen findet ein Rennen statt\, offen für Lizenz- und Hobbyfahrer. Getrennte Wertung w/m und Vereinsmeisterschaft des MTB-Club München. Das Starterfeld in diesem Rennen ist auf 50 Teilnehmer/innen begrenzt\, Berücksichtigung nach Meldeeingang! \nDie Anmeldung für alle Rennen ist bereits geöffnet Anmeldung Fröttmaning \nZeitplan und Ablauf\n\n\n\nKlasse\nm/w\nStart\nEnde\nDauer\n\n\n\n\n\n\n\n\n\nU7\nm/w\n11:00\n11:10\n5 (10)\n\n\nU9\nw\n11:20\n11:30\n5 (10)\n\n\nU9\nm\n11:40\n11:50\n5 (10)\n\n\nU11\nw\n12:00\n12:15\n8 (15)\n\n\nU11\nm\n12:25\n12:40\n8 (15)\n\n\nLaufrad\nm/w\n12:50\n13:00\n3 (10)\n\n\n \n \n \n \n \n\n\nU13\nm/w\n13:30\n13:50\n15 (20)\n\n\nU15\nm/w\n14:00\n14:35\n25 (35)\n\n\nU17/U19\nm/w\n14:45\n15:30\n35 (45)\n\n\nJedermann\n19-99 m/w\n15:40\n16:20\n30 (40)\n\n\n\n\n\n\n\n\n\nSiegerehrung\n\n16:30\n17:00\n \n\n\n\n\n\n\n\n\n\n\n\nHier nun die letzten Infos zur Anfahrt und der Örtlichkeit\nStart und Ziel\, Anmeldung\, Startnummernausgabe befinden sich auf dem kleinen Skateplatz im Kurt-Landauer-Weg am Fuß des Fröttmaninger Bergs. \nDie Anreise mit den öffentlichen ist gut möglich\, mit der U6 zur Station Fröttmaning und dann ein paar Meter an der Arena vorbei zum Berg. Sonntags sollte die Mitnahme eines Rades auch reletiv problemlos möglich sein. Kostenlose Parkmöglichkeiten gibt es direkt im Kurt-Landauer-Weg\, hier steht allerdings nur eine begrenzte Anzahl an Plätzen zur Verfügung. Einfahrt über die Freisinger Landstraße und Lottlisa-Behling-Weg. Bitte keinesfalls im Halteverbot auf den Zufahrtsstraßen parken! Alternativ gibt es einen Parkplatz im Lottlisa-Behling-Weg parallel zur Freisinger Landstraße und den Park+Ride Parkplatz Fröttmaning Werner-Heisenberg-Allee 21. \nEinen Überblick findet Ihr hier Überblick Fröttmaninger Berg und parken \nToiletten gibt es vor Ort (leider nur DIXI)\, Wasser werden wir von der nahegelegenen Heilig-Kreuz-Kirche bekommen\, vielen Dank für die Unterstützung. Bitte habt Verständnis dafür\, dass hier keine Räder geputzt werden können. Die Kirche ist die älteste\, vollständig erhaltene Kirche im Münchener Stadtgebiet. Wer Lust hat\, kann gerne einmal einen Blick hineinwerfen\, die Kirche wir extra für uns geöffnet. \nIm Start-/Zielbereich werden wir Getränke\, HotDogs und Würstel\, Kaffee und Kuchen anbieten.
URL:https://munichmtbcup.de/veranstaltung/kids-cup-mtb-club-muenchen-09-09-18/
END:VEVENT
END:VCALENDAR